BEGIN:VCALENDAR
VERSION:2.0
PRODID:Imitheme.com
BEGIN:VEVENT
UID:20260424T074819-331363510
DTSTAMP;TZID=UTC:1777016899
DTSTART;TZID=America/Los_Angeles:20260424T074819
DTEND;TZID=America/Los_Angeles:20260424T074819
SUMMARY:Sunday Worship Service
LOCATION:
DESCRIPTION: Join us at 9 am on Sundays.https://mfmaustin.org/eventer/sunday-worship-service/
URL:https://mfmaustin.org/eventer/sunday-worship-service/
END:VEVENT
END:VCALENDAR
