BEGIN:VCALENDAR
VERSION:2.0
PRODID:Imitheme.com
BEGIN:VEVENT
UID:20260420T053344-1267154540
DTSTAMP;TZID=UTC:1776663224
DTSTART;TZID=America/Los_Angeles:20260420T053344
DTEND;TZID=America/Los_Angeles:20260420T053344
SUMMARY:Sunday Worship Service
LOCATION:
DESCRIPTION: Join us at 9 am on Sundays.https://mfmaustin.org/eventer/sunday-worship-service/
URL:https://mfmaustin.org/eventer/sunday-worship-service/
END:VEVENT
END:VCALENDAR
