BEGIN:VCALENDAR
VERSION:2.0
PRODID:Imitheme.com 
BEGIN:VEVENT
UID:20260421T1741012047945211
DTSTAMP;TZID=UTC:2026-04-21 17:41:01
DTSTART;TZID=America/Los_Angeles:20260421T174101
DTEND;TZID=America/Los_Angeles:20260421T174101
SUMMARY:Weekend Deliverance
LOCATION:
DESCRIPTION:
URL:https://mfmaustin.org/eventer/weekend-deliverance/
END:VEVENT
END:VCALENDAR
